Package: microRNA Version: 1.64.0 Command: rm -rf microRNA.buildbin-libdir && mkdir microRNA.buildbin-libdir && F:\biocbuild\bbs-3.20-bioc\R\bin\R.exe CMD INSTALL --build --library=microRNA.buildbin-libdir microRNA_1.64.0.tar.gz StartedAt: 2025-04-01 08:36:49 -0400 (Tue, 01 Apr 2025) EndedAt: 2025-04-01 08:37:05 -0400 (Tue, 01 Apr 2025) EllapsedTime: 16.3 seconds RetCode: 0 Status: OK PackageFile: microRNA_1.64.0.zip PackageFileSize: 5.835 MiB