Package: microRNA Version: 1.64.0 Command: /Library/Frameworks/R.framework/Resources/bin/R CMD INSTALL microRNA StartedAt: 2025-03-31 15:22:14 -0400 (Mon, 31 Mar 2025) EndedAt: 2025-03-31 15:22:42 -0400 (Mon, 31 Mar 2025) EllapsedTime: 28.3 seconds RetCode: 0 Status: OK