Package: miaViz Version: 1.14.0 Command: /Library/Frameworks/R.framework/Resources/bin/R CMD INSTALL miaViz StartedAt: 2025-02-03 16:37:30 -0500 (Mon, 03 Feb 2025) EndedAt: 2025-02-03 16:39:04 -0500 (Mon, 03 Feb 2025) EllapsedTime: 93.4 seconds RetCode: 0 Status: OK