Package: miaViz Version: 1.14.0 Command: /Library/Frameworks/R.framework/Resources/bin/R CMD build --keep-empty-dirs --no-resave-data miaViz StartedAt: 2025-02-03 20:17:14 -0500 (Mon, 03 Feb 2025) EndedAt: 2025-02-03 20:21:27 -0500 (Mon, 03 Feb 2025) EllapsedTime: 252.9 seconds RetCode: 0 Status: OK PackageFile: miaViz_1.14.0.tar.gz PackageFileSize: 2.591 MiB