Package: miaViz Version: 1.14.0 Command: /Library/Frameworks/R.framework/Resources/bin/R CMD build --keep-empty-dirs --no-resave-data miaViz StartedAt: 2025-02-11 03:23:14 -0500 (Tue, 11 Feb 2025) EndedAt: 2025-02-11 03:25:14 -0500 (Tue, 11 Feb 2025) EllapsedTime: 119.9 seconds RetCode: 0 Status: OK PackageFile: miaViz_1.14.0.tar.gz PackageFileSize: 2.59 MiB