Package: miaSim Version: 1.12.0 Command: /Library/Frameworks/R.framework/Resources/bin/R CMD INSTALL miaSim StartedAt: 2025-03-31 16:58:47 -0400 (Mon, 31 Mar 2025) EndedAt: 2025-03-31 16:59:20 -0400 (Mon, 31 Mar 2025) EllapsedTime: 32.8 seconds RetCode: 0 Status: OK