Package: miaSim Version: 1.12.0 Command: /Library/Frameworks/R.framework/Resources/bin/R CMD build --keep-empty-dirs --no-resave-data miaSim StartedAt: 2025-01-28 03:15:10 -0500 (Tue, 28 Jan 2025) EndedAt: 2025-01-28 03:16:12 -0500 (Tue, 28 Jan 2025) EllapsedTime: 61.9 seconds RetCode: 0 Status: OK PackageFile: miaSim_1.12.0.tar.gz PackageFileSize: 600.1 KiB