Package: mia Version: 1.14.0 Command: /home/biocbuild/R/R/bin/R CMD check --install=check:mia.install-out.txt --library=/home/biocbuild/R/R/site-library --no-vignettes --timings mia_1.14.0.tar.gz StartedAt: 2025-02-04 08:45:54 -0000 (Tue, 04 Feb 2025) EndedAt: 2025-02-04 09:17:24 -0000 (Tue, 04 Feb 2025) EllapsedTime: 1889.7 seconds RetCode: 0 Status: OK CheckDir: mia.Rcheck Warnings: 0