Package: mia Version: 1.14.0 Command: /home/biocbuild/R/R/bin/R CMD build --keep-empty-dirs --no-resave-data mia StartedAt: 2025-02-04 00:56:02 -0000 (Tue, 04 Feb 2025) EndedAt: 2025-02-04 00:57:51 -0000 (Tue, 04 Feb 2025) EllapsedTime: 109.0 seconds RetCode: 0 Status: OK PackageFile: mia_1.14.0.tar.gz PackageFileSize: 3.047 MiB