Package: mia Version: 1.14.0 Command: /Library/Frameworks/R.framework/Resources/bin/R CMD build --keep-empty-dirs --no-resave-data mia StartedAt: 2024-11-19 17:35:50 -0500 (Tue, 19 Nov 2024) EndedAt: 2024-11-19 17:37:52 -0500 (Tue, 19 Nov 2024) EllapsedTime: 122.6 seconds RetCode: 0 Status: OK PackageFile: mia_1.14.0.tar.gz PackageFileSize: 2.981 MiB