Package: mia Version: 1.14.0 Command: /Library/Frameworks/R.framework/Resources/bin/R CMD INSTALL mia StartedAt: 2024-11-08 15:48:21 -0500 (Fri, 08 Nov 2024) EndedAt: 2024-11-08 15:48:38 -0500 (Fri, 08 Nov 2024) EllapsedTime: 16.6 seconds RetCode: 0 Status: OK