Package: mia Version: 1.14.0 Command: /Library/Frameworks/R.framework/Resources/bin/R CMD INSTALL mia StartedAt: 2025-01-27 17:51:10 -0500 (Mon, 27 Jan 2025) EndedAt: 2025-01-27 17:52:07 -0500 (Mon, 27 Jan 2025) EllapsedTime: 56.6 seconds RetCode: 0 Status: OK