Package: mia Version: 1.14.0 Command: /Library/Frameworks/R.framework/Resources/bin/R CMD build --keep-empty-dirs --no-resave-data mia StartedAt: 2025-01-28 03:14:06 -0500 (Tue, 28 Jan 2025) EndedAt: 2025-01-28 03:15:45 -0500 (Tue, 28 Jan 2025) EllapsedTime: 99.0 seconds RetCode: 0 Status: OK PackageFile: mia_1.14.0.tar.gz PackageFileSize: 2.982 MiB