Package: miRspongeR Version: 2.10.0 Command: /home/biocbuild/R/R/bin/R CMD build --keep-empty-dirs --no-resave-data miRspongeR StartedAt: 2025-04-01 00:50:23 -0000 (Tue, 01 Apr 2025) EndedAt: 2025-04-01 00:56:54 -0000 (Tue, 01 Apr 2025) EllapsedTime: 391.2 seconds RetCode: 0 Status: OK PackageFile: miRspongeR_2.10.0.tar.gz PackageFileSize: 671.7 KiB