Package: miRSM Version: 2.2.0 Command: chmod a+r miRSM -R && F:\biocbuild\bbs-3.20-bioc\R\bin\R.exe CMD build --keep-empty-dirs --no-resave-data miRSM StartedAt: 2025-03-31 20:13:12 -0400 (Mon, 31 Mar 2025) EndedAt: 2025-03-31 20:15:20 -0400 (Mon, 31 Mar 2025) EllapsedTime: 128.4 seconds RetCode: 0 Status: OK PackageFile: miRSM_2.2.0.tar.gz PackageFileSize: 911.5 KiB