Package: miRSM Version: 2.2.0 Command: /home/biocbuild/R/R/bin/R CMD INSTALL miRSM StartedAt: 2024-11-19 21:22:18 -0000 (Tue, 19 Nov 2024) EndedAt: 2024-11-19 21:22:19 -0000 (Tue, 19 Nov 2024) EllapsedTime: 0.6 seconds RetCode: 1 Status: ERROR