Package: miRNAtap Version: 1.40.0 Command: /home/biocbuild/R/R/bin/R CMD build --keep-empty-dirs --no-resave-data miRNAtap StartedAt: 2025-01-31 00:57:50 -0000 (Fri, 31 Jan 2025) EndedAt: 2025-01-31 00:58:50 -0000 (Fri, 31 Jan 2025) EllapsedTime: 60.0 seconds RetCode: 0 Status: OK PackageFile: miRNAtap_1.40.0.tar.gz PackageFileSize: 216.9 KiB