Package: miRNApath Version: 1.66.0 Command: /home/biocbuild/R/R/bin/R CMD INSTALL miRNApath StartedAt: 2025-02-10 20:08:33 -0000 (Mon, 10 Feb 2025) EndedAt: 2025-02-10 20:08:43 -0000 (Mon, 10 Feb 2025) EllapsedTime: 9.8 seconds RetCode: 0 Status: OK