Package: miRNApath Version: 1.66.0 Command: /home/biocbuild/R/R/bin/R CMD build --keep-empty-dirs --no-resave-data miRNApath StartedAt: 2025-02-11 00:48:28 -0000 (Tue, 11 Feb 2025) EndedAt: 2025-02-11 00:48:43 -0000 (Tue, 11 Feb 2025) EllapsedTime: 15.0 seconds RetCode: 0 Status: OK PackageFile: miRNApath_1.66.0.tar.gz PackageFileSize: 655.4 KiB