Package: miRNAmeConverter Version: 1.34.0 Command: rm -rf miRNAmeConverter.buildbin-libdir && mkdir miRNAmeConverter.buildbin-libdir && /Users/biocbuild/BBS/utils/build-universal.sh miRNAmeConverter_1.34.0.tar.gz /Library/Frameworks/R.framework/Resources/bin/R miRNAmeConverter.buildbin-libdir StartedAt: 2025-04-01 12:15:24 -0400 (Tue, 01 Apr 2025) EndedAt: 2025-04-01 12:15:57 -0400 (Tue, 01 Apr 2025) EllapsedTime: 32.9 seconds RetCode: 0 Status: OK PackageFile: miRNAmeConverter_1.34.0.tgz PackageFileSize: 580.8 KiB