Package: miRLAB Version: 1.36.0 Command: /home/biocbuild/bbs-3.20-bioc/R/bin/R CMD INSTALL miRLAB StartedAt: 2025-01-27 16:36:51 -0500 (Mon, 27 Jan 2025) EndedAt: 2025-01-27 16:37:29 -0500 (Mon, 27 Jan 2025) EllapsedTime: 38.3 seconds RetCode: 0 Status: OK