Package: miRLAB Version: 1.36.0 Command: /Library/Frameworks/R.framework/Resources/bin/R CMD check --install=check:miRLAB.install-out.txt --library=/Library/Frameworks/R.framework/Resources/library --no-vignettes --timings miRLAB_1.36.0.tar.gz StartedAt: 2025-01-28 06:39:40 -0500 (Tue, 28 Jan 2025) EndedAt: 2025-01-28 06:47:58 -0500 (Tue, 28 Jan 2025) EllapsedTime: 498.7 seconds RetCode: 0 Status: WARNINGS CheckDir: miRLAB.Rcheck Warnings: 1