Package: miRBaseConverter Version: 1.30.0 Command: /home/biocbuild/R/R/bin/R CMD INSTALL miRBaseConverter StartedAt: 2025-02-13 20:11:52 -0000 (Thu, 13 Feb 2025) EndedAt: 2025-02-13 20:12:20 -0000 (Thu, 13 Feb 2025) EllapsedTime: 28.0 seconds RetCode: 0 Status: OK