Package: miRBaseConverter Version: 1.30.0 Command: /home/biocbuild/R/R/bin/R CMD check --install=check:miRBaseConverter.install-out.txt --library=/home/biocbuild/R/R/site-library --no-vignettes --timings miRBaseConverter_1.30.0.tar.gz StartedAt: 2025-02-14 08:37:03 -0000 (Fri, 14 Feb 2025) EndedAt: 2025-02-14 08:37:44 -0000 (Fri, 14 Feb 2025) EllapsedTime: 41.0 seconds RetCode: 0 Status: OK CheckDir: miRBaseConverter.Rcheck Warnings: 0