Package: miRBaseConverter Version: 1.30.0 Command: /home/biocbuild/R/R/bin/R CMD build --keep-empty-dirs --no-resave-data miRBaseConverter StartedAt: 2025-02-14 01:02:39 -0000 (Fri, 14 Feb 2025) EndedAt: 2025-02-14 01:03:05 -0000 (Fri, 14 Feb 2025) EllapsedTime: 26.0 seconds RetCode: 0 Status: OK PackageFile: miRBaseConverter_1.30.0.tar.gz PackageFileSize: 1.962 MiB