Package: miRBaseConverter Version: 1.30.0 Command: rm -rf miRBaseConverter.buildbin-libdir && mkdir miRBaseConverter.buildbin-libdir && F:\biocbuild\bbs-3.20-bioc\R\bin\R.exe CMD INSTALL --build --library=miRBaseConverter.buildbin-libdir miRBaseConverter_1.30.0.tar.gz StartedAt: 2025-02-11 08:53:37 -0500 (Tue, 11 Feb 2025) EndedAt: 2025-02-11 08:54:04 -0500 (Tue, 11 Feb 2025) EllapsedTime: 26.9 seconds RetCode: 0 Status: OK PackageFile: miRBaseConverter_1.30.0.zip PackageFileSize: 1.988 MiB