Package: miQC Version: 1.14.0 Command: /home/biocbuild/R/R/bin/R CMD check --install=check:miQC.install-out.txt --library=/home/biocbuild/R/R/site-library --no-vignettes --timings miQC_1.14.0.tar.gz StartedAt: 2025-02-04 08:50:02 -0000 (Tue, 04 Feb 2025) EndedAt: 2025-02-04 08:53:48 -0000 (Tue, 04 Feb 2025) EllapsedTime: 225.3 seconds RetCode: 0 Status: OK CheckDir: miQC.Rcheck Warnings: 0