Package: miQC Version: 1.14.0 Command: /home/biocbuild/R/R/bin/R CMD build --keep-empty-dirs --no-resave-data miQC StartedAt: 2025-01-28 01:34:42 -0000 (Tue, 28 Jan 2025) EndedAt: 2025-01-28 01:36:17 -0000 (Tue, 28 Jan 2025) EllapsedTime: 95.0 seconds RetCode: 0 Status: OK PackageFile: miQC_1.14.0.tar.gz PackageFileSize: 1.327 MiB