Package: miQC Version: 1.14.0 Command: /Library/Frameworks/R.framework/Resources/bin/R CMD check --install=check:miQC.install-out.txt --library=/Library/Frameworks/R.framework/Resources/library --no-vignettes --timings miQC_1.14.0.tar.gz StartedAt: 2025-04-02 01:02:10 -0400 (Wed, 02 Apr 2025) EndedAt: 2025-04-02 01:05:50 -0400 (Wed, 02 Apr 2025) EllapsedTime: 219.7 seconds RetCode: 0 Status: OK CheckDir: miQC.Rcheck Warnings: 0