Package: miQC Version: 1.14.0 Command: /Library/Frameworks/R.framework/Resources/bin/R CMD build --keep-empty-dirs --no-resave-data miQC StartedAt: 2025-01-28 03:22:12 -0500 (Tue, 28 Jan 2025) EndedAt: 2025-01-28 03:23:43 -0500 (Tue, 28 Jan 2025) EllapsedTime: 91.2 seconds RetCode: 0 Status: OK PackageFile: miQC_1.14.0.tar.gz PackageFileSize: 3.08 MiB