Package: miQC Version: 1.14.0 Command: rm -rf miQC.buildbin-libdir && mkdir miQC.buildbin-libdir && /Users/biocbuild/BBS/utils/build-universal.sh miQC_1.14.0.tar.gz /Library/Frameworks/R.framework/Resources/bin/R miQC.buildbin-libdir StartedAt: 2025-02-05 16:40:35 -0500 (Wed, 05 Feb 2025) EndedAt: 2025-02-05 16:41:10 -0500 (Wed, 05 Feb 2025) EllapsedTime: 34.0 seconds RetCode: 0 Status: OK PackageFile: miQC_1.14.0.tgz PackageFileSize: 3.103 MiB