Package: mgsa Version: 1.54.0 Command: /home/biocbuild/R/R/bin/R CMD INSTALL mgsa StartedAt: 2025-01-27 21:04:54 -0000 (Mon, 27 Jan 2025) EndedAt: 2025-01-27 21:05:25 -0000 (Mon, 27 Jan 2025) EllapsedTime: 30.7 seconds RetCode: 0 Status: OK