Package: mgsa Version: 1.54.0 Command: /Library/Frameworks/R.framework/Resources/bin/R CMD check --install=check:mgsa.install-out.txt --library=/Library/Frameworks/R.framework/Resources/library --no-vignettes --timings mgsa_1.54.0.tar.gz StartedAt: 2025-01-28 06:28:18 -0500 (Tue, 28 Jan 2025) EndedAt: 2025-01-28 06:29:40 -0500 (Tue, 28 Jan 2025) EllapsedTime: 81.8 seconds RetCode: 0 Status: WARNINGS CheckDir: mgsa.Rcheck Warnings: 1