Package: mfa Version: 1.28.0 Command: /home/biocbuild/R/R/bin/R CMD INSTALL mfa StartedAt: 2025-02-03 21:05:25 -0000 (Mon, 03 Feb 2025) EndedAt: 2025-02-03 21:05:50 -0000 (Mon, 03 Feb 2025) EllapsedTime: 25.0 seconds RetCode: 0 Status: OK