Package: mfa Version: 1.28.0 Command: /home/biocbuild/R/R/bin/R CMD check --install=check:mfa.install-out.txt --library=/home/biocbuild/R/R/site-library --no-vignettes --timings mfa_1.28.0.tar.gz StartedAt: 2025-02-04 08:43:25 -0000 (Tue, 04 Feb 2025) EndedAt: 2025-02-04 08:44:47 -0000 (Tue, 04 Feb 2025) EllapsedTime: 82.1 seconds RetCode: 0 Status: OK CheckDir: mfa.Rcheck Warnings: 0