Package: mfa Version: 1.28.0 Command: F:\biocbuild\bbs-3.20-bioc\R\bin\R.exe CMD check --no-multiarch --install=check:mfa.install-out.txt --library=F:\biocbuild\bbs-3.20-bioc\R\library --no-vignettes --timings mfa_1.28.0.tar.gz StartedAt: 2025-01-28 03:24:05 -0500 (Tue, 28 Jan 2025) EndedAt: 2025-01-28 03:25:51 -0500 (Tue, 28 Jan 2025) EllapsedTime: 106.2 seconds RetCode: 0 Status: OK CheckDir: mfa.Rcheck Warnings: 0