Package: mfa Version: 1.28.0 Command: /Library/Frameworks/R.framework/Resources/bin/R CMD check --install=check:mfa.install-out.txt --library=/Library/Frameworks/R.framework/Resources/library --no-vignettes --timings mfa_1.28.0.tar.gz StartedAt: 2025-01-28 06:26:49 -0500 (Tue, 28 Jan 2025) EndedAt: 2025-01-28 06:29:24 -0500 (Tue, 28 Jan 2025) EllapsedTime: 154.4 seconds RetCode: 0 Status: OK CheckDir: mfa.Rcheck Warnings: 0