Package: methylumi Version: 2.52.0 Command: /home/biocbuild/R/R/bin/R CMD build --keep-empty-dirs --no-resave-data methylumi StartedAt: 2025-01-28 01:30:31 -0000 (Tue, 28 Jan 2025) EndedAt: 2025-01-28 01:34:36 -0000 (Tue, 28 Jan 2025) EllapsedTime: 244.1 seconds RetCode: 0 Status: OK PackageFile: methylumi_2.52.0.tar.gz PackageFileSize: 7.337 MiB