Package: methylumi Version: 2.52.0 Command: F:\biocbuild\bbs-3.20-bioc\R\bin\R.exe CMD INSTALL methylumi StartedAt: 2025-01-27 17:00:09 -0500 (Mon, 27 Jan 2025) EndedAt: 2025-01-27 17:01:56 -0500 (Mon, 27 Jan 2025) EllapsedTime: 106.4 seconds RetCode: 0 Status: OK