Package: methylumi Version: 2.52.0 Command: /home/biocbuild/bbs-3.20-bioc/R/bin/R CMD check --install=check:methylumi.install-out.txt --library=/home/biocbuild/bbs-3.20-bioc/R/site-library --timings methylumi_2.52.0.tar.gz StartedAt: 2025-01-28 00:47:17 -0500 (Tue, 28 Jan 2025) EndedAt: 2025-01-28 00:56:25 -0500 (Tue, 28 Jan 2025) EllapsedTime: 548.4 seconds RetCode: 0 Status: OK CheckDir: methylumi.Rcheck Warnings: 0