Package: methylumi Version: 2.52.0 Command: /home/biocbuild/bbs-3.20-bioc/R/bin/R CMD build --keep-empty-dirs --no-resave-data --md5 methylumi StartedAt: 2025-01-27 18:56:32 -0500 (Mon, 27 Jan 2025) EndedAt: 2025-01-27 18:59:37 -0500 (Mon, 27 Jan 2025) EllapsedTime: 185.2 seconds RetCode: 0 Status: OK PackageFile: methylumi_2.52.0.tar.gz PackageFileSize: 7.343 MiB