Package: methylumi Version: 2.52.0 Command: /Library/Frameworks/R.framework/Resources/bin/R CMD check --install=check:methylumi.install-out.txt --library=/Library/Frameworks/R.framework/Resources/library --no-vignettes --timings methylumi_2.52.0.tar.gz StartedAt: 2024-11-09 06:56:37 -0500 (Sat, 09 Nov 2024) EndedAt: 2024-11-09 07:02:20 -0500 (Sat, 09 Nov 2024) EllapsedTime: 343.3 seconds RetCode: 0 Status: OK CheckDir: methylumi.Rcheck Warnings: 0