Package: methylclock Version: 1.12.0 Command: /home/biocbuild/R/R/bin/R CMD INSTALL methylclock StartedAt: 2025-01-27 22:01:00 -0000 (Mon, 27 Jan 2025) EndedAt: 2025-01-27 22:02:35 -0000 (Mon, 27 Jan 2025) EllapsedTime: 94.6 seconds RetCode: 0 Status: OK