Package: methylclock Version: 1.12.0 Command: /Library/Frameworks/R.framework/Resources/bin/R CMD build --keep-empty-dirs --no-resave-data methylclock StartedAt: 2025-01-27 20:21:33 -0500 (Mon, 27 Jan 2025) EndedAt: 2025-01-27 20:41:49 -0500 (Mon, 27 Jan 2025) EllapsedTime: 1216.5 seconds RetCode: 0 Status: OK PackageFile: methylclock_1.12.0.tar.gz PackageFileSize: 960.1 KiB