Package: methylclock Version: 1.12.0 Command: /Library/Frameworks/R.framework/Resources/bin/R CMD INSTALL methylclock StartedAt: 2025-03-31 18:07:21 -0400 (Mon, 31 Mar 2025) EndedAt: 2025-03-31 18:08:42 -0400 (Mon, 31 Mar 2025) EllapsedTime: 80.7 seconds RetCode: 0 Status: OK