Package: methylclock Version: 1.12.0 Command: /Library/Frameworks/R.framework/Resources/bin/R CMD build --keep-empty-dirs --no-resave-data methylclock StartedAt: 2025-01-31 03:05:25 -0500 (Fri, 31 Jan 2025) EndedAt: 2025-01-31 03:20:27 -0500 (Fri, 31 Jan 2025) EllapsedTime: 902.1 seconds RetCode: 0 Status: OK PackageFile: methylclock_1.12.0.tar.gz PackageFileSize: 960.4 KiB