Package: methylSig Version: 1.18.0 Command: F:\biocbuild\bbs-3.20-bioc\R\bin\R.exe CMD INSTALL methylSig StartedAt: 2025-01-27 16:16:44 -0500 (Mon, 27 Jan 2025) EndedAt: 2025-01-27 16:17:44 -0500 (Mon, 27 Jan 2025) EllapsedTime: 60.4 seconds RetCode: 0 Status: OK