Package: methylSig Version: 1.18.0 Command: /home/biocbuild/bbs-3.20-bioc/R/bin/R CMD check --install=check:methylSig.install-out.txt --library=/home/biocbuild/bbs-3.20-bioc/R/site-library --timings methylSig_1.18.0.tar.gz StartedAt: 2025-01-28 00:46:54 -0500 (Tue, 28 Jan 2025) EndedAt: 2025-01-28 00:54:18 -0500 (Tue, 28 Jan 2025) EllapsedTime: 444.3 seconds RetCode: 0 Status: OK CheckDir: methylSig.Rcheck Warnings: 0