Package: methylSig Version: 1.18.0 Command: /Library/Frameworks/R.framework/Resources/bin/R CMD INSTALL methylSig StartedAt: 2025-02-03 15:48:29 -0500 (Mon, 03 Feb 2025) EndedAt: 2025-02-03 15:50:12 -0500 (Mon, 03 Feb 2025) EllapsedTime: 102.8 seconds RetCode: 0 Status: OK