Package: methylPipe Version: 1.40.0 Command: rm -rf methylPipe.buildbin-libdir && mkdir methylPipe.buildbin-libdir && F:\biocbuild\bbs-3.20-bioc\R\bin\R.exe CMD INSTALL --build --library=methylPipe.buildbin-libdir methylPipe_1.40.0.tar.gz StartedAt: 2025-01-28 08:32:55 -0500 (Tue, 28 Jan 2025) EndedAt: 2025-01-28 08:34:29 -0500 (Tue, 28 Jan 2025) EllapsedTime: 93.9 seconds RetCode: 0 Status: OK PackageFile: methylPipe_1.40.0.zip PackageFileSize: 1.476 MiB